BEGIN:VCALENDAR
VERSION:2.0
PRODID:-//Swanland Primary School - ECPv6.15.20//NONSGML v1.0//EN
CALSCALE:GREGORIAN
METHOD:PUBLISH
X-WR-CALNAME:Swanland Primary School
X-ORIGINAL-URL:https://swanlandschool.co.uk
X-WR-CALDESC:Events for Swanland Primary School
REFRESH-INTERVAL;VALUE=DURATION:PT1H
X-Robots-Tag:noindex
X-PUBLISHED-TTL:PT1H
BEGIN:VTIMEZONE
TZID:UTC
BEGIN:STANDARD
TZOFFSETFROM:+0000
TZOFFSETTO:+0000
TZNAME:UTC
DTSTART:20240101T000000
END:STANDARD
END:VTIMEZONE
BEGIN:VEVENT
DTSTART;VALUE=DATE:20251017
DTEND;VALUE=DATE:20251018
DTSTAMP:20260425T031905
CREATED:20250923T102524Z
LAST-MODIFIED:20250923T102524Z
UID:11619-1760659200-1760745599@swanlandschool.co.uk
SUMMARY:PTA Cauliflower Cards Deadline
DESCRIPTION:Reception\, Year 1\, Year 2\, Year 3\, Year 4\, Year 5\, Year 6 \nIn early October\, your child will bring home their Christmas card design and an order form\, should you wish to order cards\, gift tags or mugs as Christmas gifts.  If you wish to order any of these items\, please read the instructions on the paper form\, complete the online order/make payment and return the artwork and paper form to school by Friday 17th October.  (NB You only need to send back the artwork if you wish to place an order.)
URL:https://swanlandschool.co.uk/calendar/pta-cauliflower-cards-deadline-2/
CATEGORIES:PTA,Reception,Year 1,Year 2,Year 3,Year 4,Year 5,Year 6
END:VEVENT
BEGIN:VEVENT
DTSTART;VALUE=DATE:20251023
DTEND;VALUE=DATE:20251024
DTSTAMP:20260425T031905
CREATED:20250711T092619Z
LAST-MODIFIED:20250926T102515Z
UID:11474-1761177600-1761263999@swanlandschool.co.uk
SUMMARY:PTA Bag2School Collection
DESCRIPTION:Reception\, Year 1\, Year 2\, Year 3\, Year 4\, Year 5\, Year 6
URL:https://swanlandschool.co.uk/calendar/pta-bag2school-collection-14/
CATEGORIES:PTA,Reception,Year 1,Year 2,Year 3,Year 4,Year 5,Year 6
END:VEVENT
BEGIN:VEVENT
DTSTART;VALUE=DATE:20251023
DTEND;VALUE=DATE:20251024
DTSTAMP:20260425T031905
CREATED:20251002T140121Z
LAST-MODIFIED:20251009T111838Z
UID:11677-1761177600-1761263999@swanlandschool.co.uk
SUMMARY:PTA Competition - Pumpkin Decorating & Guess the Weight
DESCRIPTION:Reception\, Year 1\, Year 2\, Year 3\, Year 4\, Year 5\, Year 6 \nWe have one volunteer for this event so it can go ahead. We would really appreciate other helpers to support this person though. Please do get in touch if you are able to help. \nChildren will be able to bring their decorated or carved pumpkin and put it on the grass as you enter the school grounds from Tranby Lane. Families entering a pumpkin can drop them at school between Monday 20th and and Thursday 23rd October 8.30 am – 8.45 am. It will be £1.00 to enter on the day the pumpkin is dropped off. The pumpkins will be judged on Thursday 23rd October and can be taken home on Friday 24th October. Halloween Hamper prizes will be given in assembly on Friday. \nIn addition\, before school and during the school day\, children will be able to ‘Guess the Weight of the pumpkin’. This is £1.00 a try and a Halloween Hamper is the prize. If you don’t get chance to do this before school\, and your child wishes to enter\, please send £1.00 on Thursday 23rd October (you can get a peek of the giant pumpkin at the main entrance to school). \nIf you are able to help at this event on any day that week\, Monday to Thursday 8.30 am – 8.45 am\, to receive the entry fees and allocate a number\, please get in touch via ptaswanlandschool@gmail.com.
URL:https://swanlandschool.co.uk/calendar/pta-pumpkin-decorating-competition-tbc/
CATEGORIES:PTA,Reception,Year 1,Year 2,Year 3,Year 4,Year 5,Year 6
END:VEVENT
END:VCALENDAR