BEGIN:VCALENDAR
VERSION:2.0
PRODID:-//Swanland Primary School - ECPv6.15.20//NONSGML v1.0//EN
CALSCALE:GREGORIAN
METHOD:PUBLISH
X-WR-CALNAME:Swanland Primary School
X-ORIGINAL-URL:https://swanlandschool.co.uk
X-WR-CALDESC:Events for Swanland Primary School
REFRESH-INTERVAL;VALUE=DURATION:PT1H
X-Robots-Tag:noindex
X-PUBLISHED-TTL:PT1H
BEGIN:VTIMEZONE
TZID:UTC
BEGIN:STANDARD
TZOFFSETFROM:+0000
TZOFFSETTO:+0000
TZNAME:UTC
DTSTART:20240101T000000
END:STANDARD
END:VTIMEZONE
BEGIN:VEVENT
DTSTART;VALUE=DATE:20251120
DTEND;VALUE=DATE:20251121
DTSTAMP:20260425T020551
CREATED:20251113T120114Z
LAST-MODIFIED:20251113T120114Z
UID:11770-1763596800-1763683199@swanlandschool.co.uk
SUMMARY:PTA Meeting\, 3.30 pm
DESCRIPTION:Reception\, Year 1\, Year 2\, Year 3\, Year 4\, Year 5\, Year 6 \nThe PTA meeting on Thursday 20th November will now take place at 3.30 pm in the school. If you wish to attend\, please just turn up. We will be planning the Christmas Fair as well as holding our previously postponed AGM.
URL:https://swanlandschool.co.uk/calendar/pta-meeting-3-30-pm/
CATEGORIES:PTA,Reception,Year 1,Year 2,Year 3,Year 4,Year 5,Year 6
END:VEVENT
BEGIN:VEVENT
DTSTART;VALUE=DATE:20251128
DTEND;VALUE=DATE:20251129
DTSTAMP:20260425T020551
CREATED:20251009T113647Z
LAST-MODIFIED:20251110T110812Z
UID:11715-1764288000-1764374399@swanlandschool.co.uk
SUMMARY:Non-Uniform Day in exchange for Chocolate Tombola for the PTA Christmas Fair
DESCRIPTION:Reception\, Year 1\, Year 2\, Year 3\, Year 4\, Year 5\, Year 6
URL:https://swanlandschool.co.uk/calendar/non-uniform-day-in-exchange-for-chocolate-tombola-for-the-pta-christmas-fair-2/
CATEGORIES:PTA,Reception,Year 1,Year 2,Year 3,Year 4,Year 5,Year 6
END:VEVENT
BEGIN:VEVENT
DTSTART;VALUE=DATE:20251129
DTEND;VALUE=DATE:20251130
DTSTAMP:20260425T020551
CREATED:20251002T140249Z
LAST-MODIFIED:20251127T150802Z
UID:11679-1764374400-1764460799@swanlandschool.co.uk
SUMMARY:PTA Christmas Fair
DESCRIPTION:Reception\, Year 1\, Year 2\, Year 3\, year 4\, Year 5\, Year 6 \nThe PTA Christmas Fair is this Saturday 29th November from 10.00 am to 2.00 pm.  There will be lots of stalls selling Christmas goodies and it is FREE entry! \nThe café will be open for bacon sandwiches\, sausage sandwiches\, hot dogs and drinks. \nSanta will be in his Grotto\, tickets are SOLD OUT; for those of you lucky enough to purchase a ticket\, we hope you enjoy your visit!  Please remember your voucher on the day. You may be able to get to see Santa on the day by queueing\, but this will depend on availability\, time and how many presents he has left. \nDo visit Year 4’s Cake Stall and Craft Stall and Year 5’s Teddy Bear Tombola and if you have not done so already\, do not forget to purchase your Raffle Tickets!  As well as purchasing the tickets sent home\, they will be for sale on the day too!  There are some super prizes and\, at £1.00 a ticket\, it represents great value should you win!!  Any tickets sent home should be returned (sold or unsold) to the School Office tomorrow\, Friday 28th November. \nAs with all events\, help setting up\, running stalls and clearing away is needed and greatly appreciated.  If you can spare any time at all\, please click here\, where you can sign up to offer your help.  Thank you in advance!
URL:https://swanlandschool.co.uk/calendar/pta-christmas-fair-3/
CATEGORIES:PTA,Reception,Year 1,Year 2,Year 3,Year 4,Year 5,Year 6
END:VEVENT
BEGIN:VEVENT
DTSTART;VALUE=DATE:20251129
DTEND;VALUE=DATE:20251130
DTSTAMP:20260425T020551
CREATED:20251016T101416Z
LAST-MODIFIED:20251016T101416Z
UID:11730-1764374400-1764460799@swanlandschool.co.uk
SUMMARY:Year 5's Teddy Bear Tombola at the Christmas Fair
DESCRIPTION:Reception\, Year 1\, Year 2\, Year 3\, Year 4\, Year 5\, Year 6 \nThis year\, Year 5 will be taking part in the PTA Christmas Fair by holding a Teddy Bear Tombola!  \nTherefore\, we are asking Parents for donations of clean\, good-quality\, pre-loved or new soft toys for placing in their tombola-style raffle where every prize is a teddy or other cuddly toy. \nIf you have any preloved soft toys that your child(ren) no longer plays with that you would like to donate to their stall\, please either pass them to your Child’s Class Teacher or drop them at the School Office before Wednesday 26th November 2025. \nThank you \n 
URL:https://swanlandschool.co.uk/calendar/year-5s-teddy-bear-tombola-at-the-christmas-fair/
CATEGORIES:PTA,Reception,Year 1,Year 2,Year 3,Year 4,Year 5,Year 6
END:VEVENT
END:VCALENDAR