BEGIN:VCALENDAR
VERSION:2.0
PRODID:-//Swanland Primary School - ECPv6.15.20//NONSGML v1.0//EN
CALSCALE:GREGORIAN
METHOD:PUBLISH
X-ORIGINAL-URL:https://swanlandschool.co.uk
X-WR-CALDESC:Events for Swanland Primary School
REFRESH-INTERVAL;VALUE=DURATION:PT1H
X-Robots-Tag:noindex
X-PUBLISHED-TTL:PT1H
BEGIN:VTIMEZONE
TZID:UTC
BEGIN:STANDARD
TZOFFSETFROM:+0000
TZOFFSETTO:+0000
TZNAME:UTC
DTSTART:20240101T000000
END:STANDARD
END:VTIMEZONE
BEGIN:VEVENT
DTSTART;VALUE=DATE:20251103
DTEND;VALUE=DATE:20251104
DTSTAMP:20260425T032108
CREATED:20250711T092945Z
LAST-MODIFIED:20250711T092945Z
UID:11480-1762128000-1762214399@swanlandschool.co.uk
SUMMARY:School Re-opens after October Half-Term Holiday (8.45-8.50 am)
DESCRIPTION:Reception\, Year 1\, Year 2\, Year 3\, Year 4\, Year 5\, Year 6
URL:https://swanlandschool.co.uk/calendar/school-re-opens-after-october-half-term-holiday-8-45-8-50-am-3/
CATEGORIES:Reception,Year 1,Year 2,Year 3,Year 4,Year 5,Year 6
END:VEVENT
BEGIN:VEVENT
DTSTART;VALUE=DATE:20251104
DTEND;VALUE=DATE:20251105
DTSTAMP:20260425T032108
CREATED:20250923T102738Z
LAST-MODIFIED:20250923T102738Z
UID:11621-1762214400-1762300799@swanlandschool.co.uk
SUMMARY:Reception Admissions for September 2026\, 5.30 pm
DESCRIPTION:Reception\, Year 1\, Year 2\, Year 3\, Year 4\, Year 5\, Year 6 \nIf you have a child who will be joining us in September 2026 (or if you know someone who is considering applying for a Reception place for their child in September 2026) you/they may be interested in joining us for an Information Meeting for Prospective Parents on Tuesday 4th November 2025 at 5.30 pm in the Small Hall at Swanland Primary School – all are welcome!
URL:https://swanlandschool.co.uk/calendar/reception-admissions-for-september-2026-5-30-pm/
CATEGORIES:Reception,Year 1,Year 2,Year 3,Year 4,Year 5,Year 6
END:VEVENT
BEGIN:VEVENT
DTSTART;VALUE=DATE:20251106
DTEND;VALUE=DATE:20251107
DTSTAMP:20260425T032108
CREATED:20250926T101602Z
LAST-MODIFIED:20251009T111645Z
UID:11645-1762387200-1762473599@swanlandschool.co.uk
SUMMARY:Outdoor Classroom Day (non-uniform)
DESCRIPTION:Reception\, Year 1\, Year 2\, Year 3\, Year 4\, Year 5\, Year 6 \nOn Thursday 6th November\, we will be celebrating Outdoor Classroom Day. On this day\, all the children will be doing the majority of their learning outside. They will come to school in non-uniform\, wearing clothes that they don’t mind getting wet or muddy. We would also like every child to bring a pair of wellies or boots that they can change into when doing the activities in muddier areas and if possible waterproof trousers and jackets. If children do not have a change of shoes for the muddy activities they may not be able to fully join in as they will need clean shoes to wear indoors for lunch etc. \nAt the end of the day\, we are inviting any parents who wish to join us to come for a OPAL Parent Play session. This will be at 2.25 pm until 3.05 pm and will be an opportunity for parents to see what their children have done that day\, as well as join in with a typical lunchtime play session. \nIf you wish to attend\, please just fill in this link to notify us that you will be there.
URL:https://swanlandschool.co.uk/calendar/outdoor-classroom-day/
CATEGORIES:Reception,Year 1,Year 2,Year 3,Year 4,Year 5,Year 6
END:VEVENT
BEGIN:VEVENT
DTSTART;VALUE=DATE:20251110
DTEND;VALUE=DATE:20251111
DTSTAMP:20260425T032108
CREATED:20251016T101633Z
LAST-MODIFIED:20251105T102616Z
UID:11734-1762732800-1762819199@swanlandschool.co.uk
SUMMARY:Odd Socks Day
DESCRIPTION:Reception\, Year 1\, Year 2\, Year 3\, Year 4\, Year 5\, Year 6 \n\n		\n			\n			\n		\n\n		\n 
URL:https://swanlandschool.co.uk/calendar/odd-socks-day-4/
CATEGORIES:Reception,Year 1,Year 2,Year 3,Year 4,Year 5,Year 6
END:VEVENT
BEGIN:VEVENT
DTSTART;VALUE=DATE:20251111
DTEND;VALUE=DATE:20251112
DTSTAMP:20260425T032108
CREATED:20251016T101110Z
LAST-MODIFIED:20251016T101110Z
UID:11728-1762819200-1762905599@swanlandschool.co.uk
SUMMARY:Remembrance Day
DESCRIPTION:Reception\, Year 1\, Year 2\, Year 3\, Year 4\, Year 5\, Year 6 \nDuring the first week of school after the half-term holiday\, we are hoping to have several Poppy Appeal products on sale.  There are a range of items such as poppies\, pin badges\, wristbands and stationery – the recommended donations for the products range from 50p to £2.00.  These items will be on sale in the classroom for children to buy should they wish.  Any children who are a member of the Rainbows\, Brownies\, Guides\, Beavers\, Cubs and Scouts organisations may wear their uniform to school on Tuesday 11th November 2025.
URL:https://swanlandschool.co.uk/calendar/remembrance-day-4/
CATEGORIES:Reception,Year 1,Year 2,Year 3,Year 4,Year 5,Year 6
END:VEVENT
BEGIN:VEVENT
DTSTART;VALUE=DATE:20251111
DTEND;VALUE=DATE:20251112
DTSTAMP:20260425T032108
CREATED:20251105T094810Z
LAST-MODIFIED:20251105T094810Z
UID:11741-1762819200-1762905599@swanlandschool.co.uk
SUMMARY:Flu Vaccinations CATCH-UP SESSION
DESCRIPTION:Reception\, Year 1\, Year 2\, Year 3\, Year 4\, Year 5\, Year 6 \nThe immunisation nurses will be in school for a ‘catch up’ session on Tuesday 11th November 2025 for anyone who would like their child to have the nasal flu spray but did not complete the consent form before the visit on 3rd October. \nIf you would like your child to receive the Flu vaccine and you have NOT already done so\, please complete a consent form with YES via the website www.schoolvaccination.uk . On the webpage click on E-consent forms at the top of the page to access the online forms. \nIf you did not complete the consent form previously and still do not wish your child to have the nasal flu spray\, we would ask that you still complete the form to confirm this . \nIf you have any queries or need assistance with the consent form\, please contact the immunisation team on 01482 453690.
URL:https://swanlandschool.co.uk/calendar/flu-vaccinations-catch-up-session/
CATEGORIES:Reception,Year 1,Year 2,Year 3,Year 4,Year 5,Year 6
END:VEVENT
BEGIN:VEVENT
DTSTART;VALUE=DATE:20251114
DTEND;VALUE=DATE:20251115
DTSTAMP:20260425T032108
CREATED:20251009T113520Z
LAST-MODIFIED:20251110T110652Z
UID:11713-1763078400-1763164799@swanlandschool.co.uk
SUMMARY:Children in Need Non-Uniform Day
DESCRIPTION:Reception\, Year 1\, Year 2\, Year 3\, Year 4\, Year 5\, Year 6 \n\n		\n			\n			\n		\n\n		\n 
URL:https://swanlandschool.co.uk/calendar/children-in-need-non-uniform-day-2/
CATEGORIES:Reception,Year 1,Year 2,Year 3,Year 4,Year 5,Year 6
END:VEVENT
BEGIN:VEVENT
DTSTART;VALUE=DATE:20251120
DTEND;VALUE=DATE:20251121
DTSTAMP:20260425T032108
CREATED:20251113T120114Z
LAST-MODIFIED:20251113T120114Z
UID:11770-1763596800-1763683199@swanlandschool.co.uk
SUMMARY:PTA Meeting\, 3.30 pm
DESCRIPTION:Reception\, Year 1\, Year 2\, Year 3\, Year 4\, Year 5\, Year 6 \nThe PTA meeting on Thursday 20th November will now take place at 3.30 pm in the school. If you wish to attend\, please just turn up. We will be planning the Christmas Fair as well as holding our previously postponed AGM.
URL:https://swanlandschool.co.uk/calendar/pta-meeting-3-30-pm/
CATEGORIES:PTA,Reception,Year 1,Year 2,Year 3,Year 4,Year 5,Year 6
END:VEVENT
BEGIN:VEVENT
DTSTART;VALUE=DATE:20251126
DTEND;VALUE=DATE:20251127
DTSTAMP:20260425T032108
CREATED:20251009T112057Z
LAST-MODIFIED:20251009T112057Z
UID:11707-1764115200-1764201599@swanlandschool.co.uk
SUMMARY:Year 3 Visit to The Deep
DESCRIPTION:
URL:https://swanlandschool.co.uk/calendar/year-3-visit-to-the-deep-3/
CATEGORIES:Year 3
END:VEVENT
BEGIN:VEVENT
DTSTART;VALUE=DATE:20251126
DTEND;VALUE=DATE:20251127
DTSTAMP:20260425T032108
CREATED:20251113T120515Z
LAST-MODIFIED:20251113T120515Z
UID:11772-1764115200-1764201599@swanlandschool.co.uk
SUMMARY:Coffee & Chat\, 2.00 pm
DESCRIPTION:
URL:https://swanlandschool.co.uk/calendar/coffee-chat-2-00-pm/
CATEGORIES:Reception,Year 1,Year 2,Year 3,Year 4,Year 5,Year 6
END:VEVENT
BEGIN:VEVENT
DTSTART;VALUE=DATE:20251128
DTEND;VALUE=DATE:20251129
DTSTAMP:20260425T032108
CREATED:20251009T113647Z
LAST-MODIFIED:20251110T110812Z
UID:11715-1764288000-1764374399@swanlandschool.co.uk
SUMMARY:Non-Uniform Day in exchange for Chocolate Tombola for the PTA Christmas Fair
DESCRIPTION:Reception\, Year 1\, Year 2\, Year 3\, Year 4\, Year 5\, Year 6
URL:https://swanlandschool.co.uk/calendar/non-uniform-day-in-exchange-for-chocolate-tombola-for-the-pta-christmas-fair-2/
CATEGORIES:PTA,Reception,Year 1,Year 2,Year 3,Year 4,Year 5,Year 6
END:VEVENT
BEGIN:VEVENT
DTSTART;VALUE=DATE:20251129
DTEND;VALUE=DATE:20251130
DTSTAMP:20260425T032108
CREATED:20251002T140249Z
LAST-MODIFIED:20251127T150802Z
UID:11679-1764374400-1764460799@swanlandschool.co.uk
SUMMARY:PTA Christmas Fair
DESCRIPTION:Reception\, Year 1\, Year 2\, Year 3\, year 4\, Year 5\, Year 6 \nThe PTA Christmas Fair is this Saturday 29th November from 10.00 am to 2.00 pm.  There will be lots of stalls selling Christmas goodies and it is FREE entry! \nThe café will be open for bacon sandwiches\, sausage sandwiches\, hot dogs and drinks. \nSanta will be in his Grotto\, tickets are SOLD OUT; for those of you lucky enough to purchase a ticket\, we hope you enjoy your visit!  Please remember your voucher on the day. You may be able to get to see Santa on the day by queueing\, but this will depend on availability\, time and how many presents he has left. \nDo visit Year 4’s Cake Stall and Craft Stall and Year 5’s Teddy Bear Tombola and if you have not done so already\, do not forget to purchase your Raffle Tickets!  As well as purchasing the tickets sent home\, they will be for sale on the day too!  There are some super prizes and\, at £1.00 a ticket\, it represents great value should you win!!  Any tickets sent home should be returned (sold or unsold) to the School Office tomorrow\, Friday 28th November. \nAs with all events\, help setting up\, running stalls and clearing away is needed and greatly appreciated.  If you can spare any time at all\, please click here\, where you can sign up to offer your help.  Thank you in advance!
URL:https://swanlandschool.co.uk/calendar/pta-christmas-fair-3/
CATEGORIES:PTA,Reception,Year 1,Year 2,Year 3,Year 4,Year 5,Year 6
END:VEVENT
BEGIN:VEVENT
DTSTART;VALUE=DATE:20251129
DTEND;VALUE=DATE:20251130
DTSTAMP:20260425T032108
CREATED:20251016T101416Z
LAST-MODIFIED:20251016T101416Z
UID:11730-1764374400-1764460799@swanlandschool.co.uk
SUMMARY:Year 5's Teddy Bear Tombola at the Christmas Fair
DESCRIPTION:Reception\, Year 1\, Year 2\, Year 3\, Year 4\, Year 5\, Year 6 \nThis year\, Year 5 will be taking part in the PTA Christmas Fair by holding a Teddy Bear Tombola!  \nTherefore\, we are asking Parents for donations of clean\, good-quality\, pre-loved or new soft toys for placing in their tombola-style raffle where every prize is a teddy or other cuddly toy. \nIf you have any preloved soft toys that your child(ren) no longer plays with that you would like to donate to their stall\, please either pass them to your Child’s Class Teacher or drop them at the School Office before Wednesday 26th November 2025. \nThank you \n 
URL:https://swanlandschool.co.uk/calendar/year-5s-teddy-bear-tombola-at-the-christmas-fair/
CATEGORIES:PTA,Reception,Year 1,Year 2,Year 3,Year 4,Year 5,Year 6
END:VEVENT
END:VCALENDAR