BEGIN:VCALENDAR
VERSION:2.0
PRODID:-//Swanland Primary School - ECPv6.15.20//NONSGML v1.0//EN
CALSCALE:GREGORIAN
METHOD:PUBLISH
X-ORIGINAL-URL:https://swanlandschool.co.uk
X-WR-CALDESC:Events for Swanland Primary School
REFRESH-INTERVAL;VALUE=DURATION:PT1H
X-Robots-Tag:noindex
X-PUBLISHED-TTL:PT1H
BEGIN:VTIMEZONE
TZID:UTC
BEGIN:STANDARD
TZOFFSETFROM:+0000
TZOFFSETTO:+0000
TZNAME:UTC
DTSTART:20240101T000000
END:STANDARD
END:VTIMEZONE
BEGIN:VEVENT
DTSTART;VALUE=DATE:20251204
DTEND;VALUE=DATE:20251205
DTSTAMP:20260425T032809
CREATED:20251113T120926Z
LAST-MODIFIED:20251127T150926Z
UID:11776-1764806400-1764892799@swanlandschool.co.uk
SUMMARY:Women's Aid Collection
DESCRIPTION:Reception\, Year 1\, Year 2\, Year 3\, Year 4\, Year 5\, Year 6 \nThe first charity is HULL WOMEN’S AID – CHRISTMAS GIFT APPEAL- Please see flyer asking for new gifts\, including toys\, toiletries and games for the Hull Women’s Aid Christmas Gift Appeal. Please drop any donations to School on the morning of Thursday 4th December.
URL:https://swanlandschool.co.uk/calendar/womens-aid-collection/
CATEGORIES:Reception,Year 1,Year 2,Year 3,Year 4,Year 5,Year 6
END:VEVENT
END:VCALENDAR