BEGIN:VCALENDAR
VERSION:2.0
PRODID:-//Swanland Primary School - ECPv6.15.20//NONSGML v1.0//EN
CALSCALE:GREGORIAN
METHOD:PUBLISH
X-WR-CALNAME:Swanland Primary School
X-ORIGINAL-URL:https://swanlandschool.co.uk
X-WR-CALDESC:Events for Swanland Primary School
REFRESH-INTERVAL;VALUE=DURATION:PT1H
X-Robots-Tag:noindex
X-PUBLISHED-TTL:PT1H
BEGIN:VTIMEZONE
TZID:UTC
BEGIN:STANDARD
TZOFFSETFROM:+0000
TZOFFSETTO:+0000
TZNAME:UTC
DTSTART:20240101T000000
END:STANDARD
END:VTIMEZONE
BEGIN:VEVENT
DTSTART;VALUE=DATE:20251208
DTEND;VALUE=DATE:20251209
DTSTAMP:20260425T032209
CREATED:20251113T121128Z
LAST-MODIFIED:20251113T121128Z
UID:11778-1765152000-1765238399@swanlandschool.co.uk
SUMMARY:Joint Choir/Strings Music Concert\, 10.00 am (certain children)
DESCRIPTION:Year 3\, Year 4\, Year 5\, Year 6 \n\n		\n			\n			\n		\n\n		\n 
URL:https://swanlandschool.co.uk/calendar/joint-choir-strings-music-concert-10-00-am-certain-children/
CATEGORIES:Year 3,Year 4,Year 5,Year 6
END:VEVENT
BEGIN:VEVENT
DTSTART;VALUE=DATE:20251208
DTEND;VALUE=DATE:20251209
DTSTAMP:20260425T032209
CREATED:20251127T151120Z
LAST-MODIFIED:20251127T151120Z
UID:11830-1765152000-1765238399@swanlandschool.co.uk
SUMMARY:The Sick Children's Trust Collection
DESCRIPTION:Reception\, Year 1\, Year 2\, Year 3\, Year 4\, Year 5\, Year 6 \nFor the past ten years\, we have been collecting ‘Christmas Essentials’ to take to Eckersley House in Leeds\, NICU\, the Children’s Ward and the Children’s A&E at Hull Royal on the 20th December. Eckersley House is a property located at Leeds General Infirmary and owned by The Sick Children’s Trust (charity no 284416) – they provide accommodation and support to the parents and siblings of children who are seriously ill and being treated at the hospital. We stayed in Eckersley House in July ’15 when our son\, Edward\, suffered a cardiac arrest and later passed away. As a family we will forever be grateful that The Sick Children’s Trust enabled us to stay on site\, 24 hours a day whilst he was treated in PICU at the hospital.  We will also be taking items to Sheffield Children’s Hospital after Henry was under their care for three months following brain surgery and whilst recovering from meningitis and pneumonia.  All of the following will be parcelled up into ‘Xmas care packages’ and delivered to patients and their families enduring such a difficult time over the Xmas period. Any items would be gratefully received – we do really appreciate the support and really do appreciate just how much it helps families (at such difficult times) to know that others are thinking of them. The items they are collecting are:  \nCoffee\, hot chocolate\, tea\, sugar\, mince pies\, biscuits\, chocolate\, tissues\, selection boxes\, chocolate coins\, sweets (for patients and their siblings)\, hand creams. \nPlease send items to school on Friday 5th or Monday 8th December\, and they will be collected by the Ash family.
URL:https://swanlandschool.co.uk/calendar/the-sick-childrens-trust-collection/
CATEGORIES:Reception,Year 1,Year 2,Year 3,Year 4,Year 5,Year 6
END:VEVENT
END:VCALENDAR