BEGIN:VCALENDAR
VERSION:2.0
PRODID:-//Swanland Primary School - ECPv6.15.20//NONSGML v1.0//EN
CALSCALE:GREGORIAN
METHOD:PUBLISH
X-ORIGINAL-URL:https://swanlandschool.co.uk
X-WR-CALDESC:Events for Swanland Primary School
REFRESH-INTERVAL;VALUE=DURATION:PT1H
X-Robots-Tag:noindex
X-PUBLISHED-TTL:PT1H
BEGIN:VTIMEZONE
TZID:UTC
BEGIN:STANDARD
TZOFFSETFROM:+0000
TZOFFSETTO:+0000
TZNAME:UTC
DTSTART:20240101T000000
END:STANDARD
END:VTIMEZONE
BEGIN:VEVENT
DTSTART;VALUE=DATE:20251211
DTEND;VALUE=DATE:20251212
DTSTAMP:20260425T033007
CREATED:20251113T121516Z
LAST-MODIFIED:20251113T121516Z
UID:11790-1765411200-1765497599@swanlandschool.co.uk
SUMMARY:Year 3 Visit to the ERT to see 'The Snow Queen'
DESCRIPTION:
URL:https://swanlandschool.co.uk/calendar/year-3-visit-to-the-ert-to-see-the-snow-queen/
CATEGORIES:Year 3
END:VEVENT
END:VCALENDAR