BEGIN:VCALENDAR
VERSION:2.0
PRODID:-//Swanland Primary School - ECPv6.15.20//NONSGML v1.0//EN
CALSCALE:GREGORIAN
METHOD:PUBLISH
X-WR-CALNAME:Swanland Primary School
X-ORIGINAL-URL:https://swanlandschool.co.uk
X-WR-CALDESC:Events for Swanland Primary School
REFRESH-INTERVAL;VALUE=DURATION:PT1H
X-Robots-Tag:noindex
X-PUBLISHED-TTL:PT1H
BEGIN:VTIMEZONE
TZID:UTC
BEGIN:STANDARD
TZOFFSETFROM:+0000
TZOFFSETTO:+0000
TZNAME:UTC
DTSTART:20240101T000000
END:STANDARD
END:VTIMEZONE
BEGIN:VEVENT
DTSTART;VALUE=DATE:20251212
DTEND;VALUE=DATE:20251213
DTSTAMP:20260425T032215
CREATED:20251113T121637Z
LAST-MODIFIED:20251113T121637Z
UID:11792-1765497600-1765583999@swanlandschool.co.uk
SUMMARY:Joint Choir/Keyboard Music Concert (certain children)
DESCRIPTION:Year 3\, Year 4\, Year 5\, Year 6
URL:https://swanlandschool.co.uk/calendar/joint-choir-keyboard-music-concert-certain-children/
CATEGORIES:Year 3,Year 4,Year 5,Year 6
END:VEVENT
BEGIN:VEVENT
DTSTART;VALUE=DATE:20251212
DTEND;VALUE=DATE:20251213
DTSTAMP:20260425T032215
CREATED:20251113T121731Z
LAST-MODIFIED:20251113T121731Z
UID:11794-1765497600-1765583999@swanlandschool.co.uk
SUMMARY:PTA Christmas Shop
DESCRIPTION:Reception\, Year 1\, Year 2\, Year 3\, Year 4\, Year 5\, Year 6
URL:https://swanlandschool.co.uk/calendar/pta-christmas-shop-2/
CATEGORIES:Reception,Year 1,Year 2,Year 3,Year 4,Year 5,Year 6
END:VEVENT
BEGIN:VEVENT
DTSTART;VALUE=DATE:20251212
DTEND;VALUE=DATE:20251213
DTSTAMP:20260425T032215
CREATED:20251113T121807Z
LAST-MODIFIED:20251204T124243Z
UID:11796-1765497600-1765583999@swanlandschool.co.uk
SUMMARY:Years 3 and 4 Christmas Party
DESCRIPTION:Year 3\, Year 4
URL:https://swanlandschool.co.uk/calendar/years-3-and-4-christmas-party-2/
CATEGORIES:Year 3,Year 4
END:VEVENT
END:VCALENDAR