BEGIN:VCALENDAR
VERSION:2.0
PRODID:-//Swanland Primary School - ECPv6.15.20//NONSGML v1.0//EN
CALSCALE:GREGORIAN
METHOD:PUBLISH
X-WR-CALNAME:Swanland Primary School
X-ORIGINAL-URL:https://swanlandschool.co.uk
X-WR-CALDESC:Events for Swanland Primary School
REFRESH-INTERVAL;VALUE=DURATION:PT1H
X-Robots-Tag:noindex
X-PUBLISHED-TTL:PT1H
BEGIN:VTIMEZONE
TZID:UTC
BEGIN:STANDARD
TZOFFSETFROM:+0000
TZOFFSETTO:+0000
TZNAME:UTC
DTSTART:20240101T000000
END:STANDARD
END:VTIMEZONE
BEGIN:VEVENT
DTSTART;VALUE=DATE:20251217
DTEND;VALUE=DATE:20251218
DTSTAMP:20260425T032610
CREATED:20251113T122139Z
LAST-MODIFIED:20251204T123144Z
UID:11806-1765929600-1766015999@swanlandschool.co.uk
SUMMARY:Christmas Lunch Day
DESCRIPTION:Reception\, Year 1\, Year 2\, Year 3\, Year 4\, Year 5\, Year 6 \nChristmas Lunch is on Wednesday 17th December and comprises of Roast chicken*\, pig in blanket*\, stuffing\, roast potatoes\, carrots\, garden peas and gravy\, followed by a Christmas biscuit! (*vegetarian option: Quorn fillet/Quorn sausage).   \nPlease note that there will be no Salad Bar or Jacket Potato option on Christmas Lunch Day.
URL:https://swanlandschool.co.uk/calendar/christmas-lunch-day-2/
CATEGORIES:Reception,Year 1,Year 2,Year 3,Year 4,Year 5,Year 6
END:VEVENT
END:VCALENDAR