BEGIN:VCALENDAR
VERSION:2.0
PRODID:-//Swanland Primary School - ECPv6.15.20//NONSGML v1.0//EN
CALSCALE:GREGORIAN
METHOD:PUBLISH
X-WR-CALNAME:Swanland Primary School
X-ORIGINAL-URL:https://swanlandschool.co.uk
X-WR-CALDESC:Events for Swanland Primary School
REFRESH-INTERVAL;VALUE=DURATION:PT1H
X-Robots-Tag:noindex
X-PUBLISHED-TTL:PT1H
BEGIN:VTIMEZONE
TZID:UTC
BEGIN:STANDARD
TZOFFSETFROM:+0000
TZOFFSETTO:+0000
TZNAME:UTC
DTSTART:20250101T000000
END:STANDARD
END:VTIMEZONE
BEGIN:VEVENT
DTSTART;VALUE=DATE:20260427
DTEND;VALUE=DATE:20260428
DTSTAMP:20260424T203230
CREATED:20260416T134743Z
LAST-MODIFIED:20260416T134758Z
UID:12358-1777248000-1777334399@swanlandschool.co.uk
SUMMARY:Year 3 Visit to the Hull Reform Synagogue
DESCRIPTION:
URL:https://swanlandschool.co.uk/calendar/year-3-visit-to-the-hull-reform-synagogue/
CATEGORIES:Year 3
END:VEVENT
BEGIN:VEVENT
DTSTART;VALUE=DATE:20260428
DTEND;VALUE=DATE:20260429
DTSTAMP:20260424T203230
CREATED:20260416T134307Z
LAST-MODIFIED:20260416T134307Z
UID:12352-1777334400-1777420799@swanlandschool.co.uk
SUMMARY:Family Support Drop-In Session\, 10.00 am - 12.00 pm
DESCRIPTION:Reception\, Year 1\, Year 2\, Year 3\, Year 4\, Year 5\, Year 6 \nThe next half‑termly drop‑in with our local School and Community Practitioner\, Gary Kirkwood will be held on Tuesday 28th April; offering support for families needing help with wellbeing\, home life\, or similar concerns. \nIf you would like to book a meeting with Gary\, please email office@swanlandschool.co.uk.
URL:https://swanlandschool.co.uk/calendar/family-support-drop-in-session-10-00-am-12-00-pm/
CATEGORIES:Reception,Year 1,Year 2,Year 3,Year 4,Year 5,Year 6
END:VEVENT
BEGIN:VEVENT
DTSTART;VALUE=DATE:20260430
DTEND;VALUE=DATE:20260501
DTSTAMP:20260424T203230
CREATED:20260115T150724Z
LAST-MODIFIED:20260326T145607Z
UID:11970-1777507200-1777593599@swanlandschool.co.uk
SUMMARY:Visit from M&M Productions 'The Railway Children'
DESCRIPTION:Reception\, Year 1\, Year 2\, Year 3\, Year 4\, Year 5\, Year 6 \nWe are delighted to share that on Thursday 30th April\, M&M Theatrical Productions will be visiting school to perform their wonderful stage adaptation of The Railway Children. \nThis is a whole‑school event\, kindly funded by the PTA.
URL:https://swanlandschool.co.uk/calendar/visit-from-mm-productions-the-railway-children/
CATEGORIES:Reception,Year 1,Year 2,Year 3,Year 4,Year 5,Year 6
END:VEVENT
END:VCALENDAR