BEGIN:VCALENDAR
VERSION:2.0
PRODID:-//Swanland Primary School - ECPv6.15.20//NONSGML v1.0//EN
CALSCALE:GREGORIAN
METHOD:PUBLISH
X-WR-CALNAME:Swanland Primary School
X-ORIGINAL-URL:https://swanlandschool.co.uk
X-WR-CALDESC:Events for Swanland Primary School
REFRESH-INTERVAL;VALUE=DURATION:PT1H
X-Robots-Tag:noindex
X-PUBLISHED-TTL:PT1H
BEGIN:VTIMEZONE
TZID:UTC
BEGIN:STANDARD
TZOFFSETFROM:+0000
TZOFFSETTO:+0000
TZNAME:UTC
DTSTART:20250101T000000
END:STANDARD
END:VTIMEZONE
BEGIN:VEVENT
DTSTART;VALUE=DATE:20260319
DTEND;VALUE=DATE:20260320
DTSTAMP:20260425T022600
CREATED:20260227T100412Z
LAST-MODIFIED:20260312T145535Z
UID:12178-1773878400-1773964799@swanlandschool.co.uk
SUMMARY:PTA Meeting\, 6.30 pm
DESCRIPTION:Reception\, Year 1\, Year 2\, Year 3\, Year 4\, Year 5\, Year 6 \nParents\, carers\, staff and PTA members are warmly invited to attend the meeting at school on Thursday 19th March at 6.30 pm. \nIf you would like to get involved but are unable to attend\, please email ptaswanlandschool@gmail.com \nThank you for your continued support.
URL:https://swanlandschool.co.uk/calendar/pta-meeting-6-30-pm-2/
CATEGORIES:PTA,Reception,Year 1,Year 2,Year 3,Year 4,Year 5,Year 6
END:VEVENT
BEGIN:VEVENT
DTSTART;VALUE=DATE:20260319
DTEND;VALUE=DATE:20260320
DTSTAMP:20260425T022600
CREATED:20260305T144407Z
LAST-MODIFIED:20260312T144949Z
UID:12203-1773878400-1773964799@swanlandschool.co.uk
SUMMARY:Rock Your Socks (in support of World Down Sydrome Day)
DESCRIPTION:Reception\, Year 1\, Year 2\, Year 3\, Year 4\, Year 5\, Year 6 \nChange of date from Friday 20th March to Thursday 19th March. \nThis year to support World Down Syndrome Day\, we are inviting all pupils to take part in “Rock Your Socks” on Friday 20th March. \nRocking your socks is a fun and child-friendly way to start conversations about difference\, inclusion and celebrating what makes each of us unique. By wearing bright\, colourful\, and mismatched socks\, pupils and staff can show their support in a simple\, visible and meaningful way. \nChildren are welcome to come to school wearing mismatched socks on the day – the more colourful and mismatched\, the better! Families may choose to purchase official socks (click here)\, but any fun socks are absolutely fine. \nWe would also be grateful for any voluntary cash donations\, which will go directly to Downright Special\, a charity that provides invaluable support to children with Down Syndrome and to our school community. \nThank you for helping us celebrate this important day.
URL:https://swanlandschool.co.uk/calendar/rock-your-socks-in-support-of-world-down-sydrome-day/
CATEGORIES:Reception,Year 1,Year 2,Year 3,Year 4,Year 5,Year 6
END:VEVENT
BEGIN:VEVENT
DTSTART;VALUE=DATE:20260320
DTEND;VALUE=DATE:20260321
DTSTAMP:20260425T022600
CREATED:20260109T112617Z
LAST-MODIFIED:20260227T100138Z
UID:11933-1773964800-1774051199@swanlandschool.co.uk
SUMMARY:Comic Relief Red Nose Day
DESCRIPTION:Reception\, Year 1\, Year 2\, Year 3\, Year 4\, Year 5\, Year 6 \nThis year we are once again raising money for Red Nose Day 2026! \nA small donation of any amount towards our Red Nose Non‑Uniform Day would be most gratefully received by clicking here. \nThis year’s suggested theme is “Wear something funny for money!” \nThis could be your favourite outfit\, a funny costume\, or simply something that makes you happy! \nPlease see the separate flyer for more information.
URL:https://swanlandschool.co.uk/calendar/comic-relief-red-nose-day/
CATEGORIES:Reception,Year 1,Year 2,Year 3,Year 4,Year 5,Year 6
END:VEVENT
BEGIN:VEVENT
DTSTART;VALUE=DATE:20260323
DTEND;VALUE=DATE:20260324
DTSTAMP:20260425T022600
CREATED:20260109T112645Z
LAST-MODIFIED:20260212T120729Z
UID:11935-1774224000-1774310399@swanlandschool.co.uk
SUMMARY:Year 3 Prehistory Day
DESCRIPTION:
URL:https://swanlandschool.co.uk/calendar/year-3-prehistory-day-2/
CATEGORIES:Year 3
END:VEVENT
BEGIN:VEVENT
DTSTART;VALUE=DATE:20260324
DTEND;VALUE=DATE:20260325
DTSTAMP:20260425T022600
CREATED:20260109T112745Z
LAST-MODIFIED:20260227T101248Z
UID:11937-1774310400-1774396799@swanlandschool.co.uk
SUMMARY:Year 1 Dress Rehearsal of 'Rise & Shine' to the school
DESCRIPTION:
URL:https://swanlandschool.co.uk/calendar/year-1-dress-rehearsal-of-rise-shine-to-the-school-2/
CATEGORIES:Reception,Year 1,Year 2,Year 3,Year 4,Year 5,Year 6
END:VEVENT
BEGIN:VEVENT
DTSTART;VALUE=DATE:20260326
DTEND;VALUE=DATE:20260327
DTSTAMP:20260425T022600
CREATED:20260109T112914Z
LAST-MODIFIED:20260312T145433Z
UID:11941-1774483200-1774569599@swanlandschool.co.uk
SUMMARY:PTA's Big Easter Egg Giveaway 2026
DESCRIPTION:Reception\, Year 1\, Year 2\, Year 3\, Year 4\, Year 5\, Year 6 \nPTA’s Big Easter Egg Giveaway 2026 \n\nAll forms\, together with money raised\, should be returned to school on or before Monday 23rd March\, thank you\n\n*************************
URL:https://swanlandschool.co.uk/calendar/ptas-big-easter-egg-giveaway-2026/
CATEGORIES:PTA,Reception,Year 1,Year 2,Year 3,Year 4,Year 5,Year 6
END:VEVENT
BEGIN:VEVENT
DTSTART;VALUE=DATE:20260326
DTEND;VALUE=DATE:20260327
DTSTAMP:20260425T022600
CREATED:20260109T113112Z
LAST-MODIFIED:20260109T113112Z
UID:11945-1774483200-1774569599@swanlandschool.co.uk
SUMMARY:School Closes for Easter Holidays (3.20 pm)
DESCRIPTION:Reception\, Year 1\, Year 2\, Year 3\, Year 4\, Year 5\, Year 6
URL:https://swanlandschool.co.uk/calendar/school-closes-for-easter-holidays-3-20-pm-3/
CATEGORIES:Reception,Year 1,Year 2,Year 3,Year 4,Year 5,Year 6
END:VEVENT
BEGIN:VEVENT
DTSTART;VALUE=DATE:20260326
DTEND;VALUE=DATE:20260327
DTSTAMP:20260425T022600
CREATED:20260305T144145Z
LAST-MODIFIED:20260312T145758Z
UID:12200-1774483200-1774569599@swanlandschool.co.uk
SUMMARY:Coffee and Chat\, 9.00-10.30 am
DESCRIPTION:Reception\, Year 1\, Year 2\, Year 3\, Year 4\, Year 5\, Year 6 \n\n		\n			\n			\n		\n\n		\n********************** \nWe now have a dedicated Family Help School & Community Practitioner assigned to our school—Gary Kirkwood—who is available to offer support\, advice\, and guidance to families who may need additional help. These sessions act as the first point of contact for signposting families to appropriate services and should be used before initiating an Early Help referral\, as Gary can direct families to a range of support options\, including Early Help where necessary. \nThis process also enables Front Door Services to direct parents to our pre‑arranged drop‑in sessions when they enquire about support but do not require a full referral. \nThis drop‑in opportunity is the first step prior to making an Early Help referral. \nWe will be offering half‑termly drop‑in sessions\, with the first session taking place on Tuesday 17th March between 9.00 am and 11.30 am. If you or a family require support with home life\, wellbeing\, or similar concerns\, we can also arrange individual appointments with Gary as needed. \nThese are relaxed\, informal drop‑in sessions designed to make accessing support as easy as possible. \nIn addition\, Gary will be holding a Coffee and Chat session on Thursday 26th March\, 9.10 am–10.15 am. \nIf you are interested in booking a meeting or attending the Coffee and Chat session\, please email: office@swanlandschool.co.uk.
URL:https://swanlandschool.co.uk/calendar/coffee-and-chat-9-10-10-15-am/
CATEGORIES:Reception,Year 1,Year 2,Year 3,Year 4,Year 5,Year 6
END:VEVENT
BEGIN:VEVENT
DTSTART;VALUE=DATE:20260327
DTEND;VALUE=DATE:20260413
DTSTAMP:20260425T022600
CREATED:20260109T113153Z
LAST-MODIFIED:20260109T113153Z
UID:11947-1774569600-1776038399@swanlandschool.co.uk
SUMMARY:School Closed for Easter Holidays
DESCRIPTION:Reception\, Year 1\, Year 2\, Year 3\, Year 4\, Year 5\, Year 6
URL:https://swanlandschool.co.uk/calendar/school-closed-for-easter-holidays/
CATEGORIES:Reception,Year 1,Year 2,Year 3,Year 4,Year 5,Year 6
END:VEVENT
BEGIN:VEVENT
DTSTART;VALUE=DATE:20260413
DTEND;VALUE=DATE:20260414
DTSTAMP:20260425T022600
CREATED:20260109T113243Z
LAST-MODIFIED:20260109T113243Z
UID:11949-1776038400-1776124799@swanlandschool.co.uk
SUMMARY:School Re-opens after Easter Holidays (8.45-8.50 am)
DESCRIPTION:Reception\, Year 1\, Year 2\, Year 3\, Year 4\, Year 5\, Year 6
URL:https://swanlandschool.co.uk/calendar/school-re-opens-after-easter-holidays-8-45-8-50-am-3/
CATEGORIES:Reception,Year 1,Year 2,Year 3,Year 4,Year 5,Year 6
END:VEVENT
BEGIN:VEVENT
DTSTART;VALUE=DATE:20260416
DTEND;VALUE=DATE:20260417
DTSTAMP:20260425T022600
CREATED:20260109T113314Z
LAST-MODIFIED:20260326T145521Z
UID:11951-1776297600-1776383999@swanlandschool.co.uk
SUMMARY:PTA Bag2School Collection
DESCRIPTION:Reception\, Year 1\, Year 2\, Year 3\, Year 4\, Year 5\, Year 6 \nOur next PTA Bag2School collection will take place on Thursday 16th April. This is a great opportunity to have a clear out over the Easter holidays while helping raise valuable funds for our school. \nPlease bring any good‑quality clothing\, paired shoes\, bags\, belts and accessories in any tied bag and leave them at the designated drop-off point. CLICK HERE for more information. \nEvery kilogram collected helps support PTA projects\, so your donations make a real difference. \nThank you for your continued support!
URL:https://swanlandschool.co.uk/calendar/pta-bag2school-collection-15/
CATEGORIES:PTA,Reception,Year 1,Year 2,Year 3,Year 4,Year 5,Year 6
END:VEVENT
BEGIN:VEVENT
DTSTART;VALUE=DATE:20260417
DTEND;VALUE=DATE:20260418
DTSTAMP:20260425T022600
CREATED:20260115T151407Z
LAST-MODIFIED:20260416T133842Z
UID:11972-1776384000-1776470399@swanlandschool.co.uk
SUMMARY:Pathological Demand Avoidance (PDA) Parent Workshop\, 1.30-3.00 pm
DESCRIPTION:Reception\, Year 1\, Year 2\, Year 3\, Year 4\, Year 5\, Year 6 \nThese workshops\, delivered in collaboration with Edukos Trust and KIDS\, aim to empower families with: \n\nA deeper understanding of autism with a demand avoidant profile\nStrategies to reduce conflict\nPractical tools for supporting their child\n\nClick the link below to book your place: \nCourse Booking Link
URL:https://swanlandschool.co.uk/calendar/pathological-demand-avoidance-pda-parent-workshop-1-30-3-00-pm/
CATEGORIES:Reception,Year 1,Year 2,Year 3,Year 4,Year 5,Year 6
END:VEVENT
BEGIN:VEVENT
DTSTART;VALUE=DATE:20260421
DTEND;VALUE=DATE:20260422
DTSTAMP:20260425T022600
CREATED:20260416T134623Z
LAST-MODIFIED:20260416T134623Z
UID:12356-1776729600-1776815999@swanlandschool.co.uk
SUMMARY:Ice Pop Sale - Tuesdays after School
DESCRIPTION:Reception\, Year 1\, Year 2\, Year 3\, Year 4\, Year 5\, Year 6 \nWeather permitting\, ice pops will be on sale every Tuesday after school on the KS2 playground. \nCost: 50p each (please bring correct change) \nAll proceeds will go towards the PTA. \nThank you for your continued support.
URL:https://swanlandschool.co.uk/calendar/ice-pop-sale-tuesdays-after-school/
CATEGORIES:PTA,Reception,Year 1,Year 2,Year 3,Year 4,Year 5,Year 6
END:VEVENT
BEGIN:VEVENT
DTSTART;VALUE=DATE:20260423
DTEND;VALUE=DATE:20260424
DTSTAMP:20260425T022600
CREATED:20260227T100709Z
LAST-MODIFIED:20260416T134025Z
UID:12182-1776902400-1776988799@swanlandschool.co.uk
SUMMARY:PTA Spring Disco
DESCRIPTION:Reception\, Year 1\, Year 2\, Year 3\, Year 4\, Year 5\, Year 6 \nThere’s still time to book your child’s ticket for our exciting Spring Disco on \n📅 Thursday 23rd April \n✨ Ticket sales close at 5:00pm on Wednesday 22nd April — make sure you secure your place before then! \n👉 [CLICK HERE for more information] \nA fun-filled evening of music\, dancing\, and springtime celebration! 🌸🎶
URL:https://swanlandschool.co.uk/calendar/pta-spring-disco-2/
CATEGORIES:PTA,Reception,Year 1,Year 2,Year 3,Year 4,Year 5,Year 6
END:VEVENT
BEGIN:VEVENT
DTSTART;VALUE=DATE:20260427
DTEND;VALUE=DATE:20260428
DTSTAMP:20260425T022600
CREATED:20260416T134743Z
LAST-MODIFIED:20260416T134758Z
UID:12358-1777248000-1777334399@swanlandschool.co.uk
SUMMARY:Year 3 Visit to the Hull Reform Synagogue
DESCRIPTION:
URL:https://swanlandschool.co.uk/calendar/year-3-visit-to-the-hull-reform-synagogue/
CATEGORIES:Year 3
END:VEVENT
BEGIN:VEVENT
DTSTART;VALUE=DATE:20260428
DTEND;VALUE=DATE:20260429
DTSTAMP:20260425T022600
CREATED:20260416T134307Z
LAST-MODIFIED:20260416T134307Z
UID:12352-1777334400-1777420799@swanlandschool.co.uk
SUMMARY:Family Support Drop-In Session\, 10.00 am - 12.00 pm
DESCRIPTION:Reception\, Year 1\, Year 2\, Year 3\, Year 4\, Year 5\, Year 6 \nThe next half‑termly drop‑in with our local School and Community Practitioner\, Gary Kirkwood will be held on Tuesday 28th April; offering support for families needing help with wellbeing\, home life\, or similar concerns. \nIf you would like to book a meeting with Gary\, please email office@swanlandschool.co.uk.
URL:https://swanlandschool.co.uk/calendar/family-support-drop-in-session-10-00-am-12-00-pm/
CATEGORIES:Reception,Year 1,Year 2,Year 3,Year 4,Year 5,Year 6
END:VEVENT
BEGIN:VEVENT
DTSTART;VALUE=DATE:20260430
DTEND;VALUE=DATE:20260501
DTSTAMP:20260425T022600
CREATED:20260115T150724Z
LAST-MODIFIED:20260326T145607Z
UID:11970-1777507200-1777593599@swanlandschool.co.uk
SUMMARY:Visit from M&M Productions 'The Railway Children'
DESCRIPTION:Reception\, Year 1\, Year 2\, Year 3\, Year 4\, Year 5\, Year 6 \nWe are delighted to share that on Thursday 30th April\, M&M Theatrical Productions will be visiting school to perform their wonderful stage adaptation of The Railway Children. \nThis is a whole‑school event\, kindly funded by the PTA.
URL:https://swanlandschool.co.uk/calendar/visit-from-mm-productions-the-railway-children/
CATEGORIES:Reception,Year 1,Year 2,Year 3,Year 4,Year 5,Year 6
END:VEVENT
BEGIN:VEVENT
DTSTART;VALUE=DATE:20260501
DTEND;VALUE=DATE:20260502
DTSTAMP:20260425T022600
CREATED:20260416T134438Z
LAST-MODIFIED:20260416T134438Z
UID:12354-1777593600-1777679999@swanlandschool.co.uk
SUMMARY:OPAL Parent Event (Non-Uniform Day )
DESCRIPTION:Reception\, Year 1\, Year 2\, Year 3\, Year 4\, Year 5\, Year 6 \nWe are delighted to invite parents and carers to our upcoming OPAL (Outdoor Play and Learning) event on Friday 1 May 2026\, starting at 1.30pm. \n1.30 pm – OPAL Parent Working Party Meeting \nWe will begin with a short meeting for parents and carers who are interested in being involved in our OPAL working party. This will be an opportunity to share ideas and suggestions and to help shape the next steps in further improving our lunchtime play offer. \n2.15 pm – Stay and Play \nFollowing this\, parents and carers are warmly invited to join our Stay and Play session. During this extended playtime\, you will be able to see the wide range of play opportunities available at our school and enjoy playing alongside your child. \nAt this event we will also have a table of waterproofs and wellies that children can take or make a small donation towards if they need them. \nIf you would like to attend one or both of these sessions\, please sign up using the link below: \nOPAL Parent Meeting and Stay and Play  1st May – Fill in form \nNon‑Uniform Day and Donations \nThe day will also be a non‑uniform day. Children are invited to bring either £1.00 or an item from the list below (perhaps something you have spare or unused). We are currently developing our garden area and water play provision\, so any contributions to support this are very much appreciated. \nItems to bring in exchange for non-uniform: \n\n✨£1.00 suggested donation OR\n🌱 Seeds\, bulbs or outdoor plants\n🧤 Gardening equipment (hand forks\, trowels\, etc.)\n🎨 Chalk\n🏖️ Sandpit toys\n💦 Water play toys (jugs\, cups\, funnels\, pipes)\n🚜 Toy vehicles (cars\, trucks\, tractors and similar)\n👶 Larger dolls (please not Barbie‑sized\, as we already have plenty)\n👗 Barbie clothes (we have lots of Barbies who need outfits!)\n📎 Pegs (including larger pegs for towels on sunbeds)\n\nWe currently have plenty of mud kitchen equipment and teddies so are not accepting any more at this time. \nThank you\, as always\, for your generosity and continued support.
URL:https://swanlandschool.co.uk/calendar/opal-parent-event-non-uniform-day/
CATEGORIES:Reception,Year 1,Year 2,Year 3,Year 4,Year 5,Year 6
END:VEVENT
BEGIN:VEVENT
DTSTART;VALUE=DATE:20260504
DTEND;VALUE=DATE:20260505
DTSTAMP:20260425T022600
CREATED:20260312T151011Z
LAST-MODIFIED:20260312T151028Z
UID:12223-1777852800-1777939199@swanlandschool.co.uk
SUMMARY:May Bank Holiday
DESCRIPTION:Reception\, Year 1\, Year 2\, Year 3\, Year 4\, Year 5\, Year 6
URL:https://swanlandschool.co.uk/calendar/may-bank-holiday/
CATEGORIES:Reception,Year 1,Year 2,Year 3,Year 4,Year 5,Year 6
END:VEVENT
BEGIN:VEVENT
DTSTART;VALUE=DATE:20260509
DTEND;VALUE=DATE:20260510
DTSTAMP:20260425T022600
CREATED:20260209T141848Z
LAST-MODIFIED:20260424T094445Z
UID:12102-1778284800-1778371199@swanlandschool.co.uk
SUMMARY:From the Playground to the Peaks!
DESCRIPTION:Reception\, Year 1\, Year 2\, Year 3\, Year 4\, Year 5\, Year 6 \n \nDear Swanland School Community\, \nThis year\, we’re aiming for a record number of participants in our fun-filled 3 Peaks Challenge! \nCelebrating Last Year’s Success \nThe OPAL challenge was such a huge success that we knew we had to continue the tradition. Thanks to your generosity\, the children enjoyed an unforgettable play day using the new outdoor equipment your fundraising made possible. Seeing the childrens’ faces light up on that play day reminded us all why these fundraising efforts matter so much. \nLooking Ahead: 2026 \nWe’re once again raising funds to further develop our outdoor provision\, giving our children even more opportunities to learn and play outdoors in the fresh air. \nThe Swanland Walking Group needs YOU! \nWe are returning to the Yorkshire 3 Peaks on Saturday 9th May 2026. It’s a friendly\, enjoyable walk suitable for all abilities. Last year we enjoyed incredible weather and stunning views across the peaks. The event raised over £3\,000 and we would love to make 2026 our biggest year yet. \nWhether you are an experienced walker or a first-timer\, come and join our Swanland Walking Mums and Dads for a great day out in support of an amazing cause. \nWe’re Seeking Partners \nTo grow our “From the Playground to the Peaks” initiative\, we are looking for local businesses and community partners to support our outdoor learning and play projects. Your partnership will help us provide outstanding outdoor learning and play opportunities for all our children. \nGet Involved \nTo join the walk or become a partner\, contact Magda at magdallena.dudek@gmail.com to be added to the WhatsApp group. \nTogether\, let’s make 2026 our biggest year yet — From the Playground to the Peaks!
URL:https://swanlandschool.co.uk/calendar/from-the-playground-to-the-peaks/
CATEGORIES:Reception,Year 1,Year 2,Year 3,Year 4,Year 5,Year 6
END:VEVENT
BEGIN:VEVENT
DTSTART;VALUE=DATE:20260512
DTEND;VALUE=DATE:20260513
DTSTAMP:20260425T022600
CREATED:20260416T135527Z
LAST-MODIFIED:20260416T135527Z
UID:12361-1778544000-1778630399@swanlandschool.co.uk
SUMMARY:Year 3 Earthquakes and Volcanoes Day
DESCRIPTION:
URL:https://swanlandschool.co.uk/calendar/year-3-earthquakes-and-volcanoes-day/
CATEGORIES:Year 3
END:VEVENT
BEGIN:VEVENT
DTSTART;VALUE=DATE:20260518
DTEND;VALUE=DATE:20260519
DTSTAMP:20260425T022600
CREATED:20260416T135811Z
LAST-MODIFIED:20260416T135811Z
UID:12363-1779062400-1779148799@swanlandschool.co.uk
SUMMARY:Family Support Drop-In Session\, 2.00-4.00 pm
DESCRIPTION:Reception\, Year 1\, Year 2\, Year 3\, Year 4\, Year 5\, Year 6
URL:https://swanlandschool.co.uk/calendar/family-support-drop-in-session-2-00-4-00-pm/
CATEGORIES:Reception,Year 1,Year 2,Year 3,Year 4,Year 5,Year 6
END:VEVENT
BEGIN:VEVENT
DTSTART;VALUE=DATE:20260521
DTEND;VALUE=DATE:20260522
DTSTAMP:20260425T022600
CREATED:20260312T151428Z
LAST-MODIFIED:20260424T095646Z
UID:12229-1779321600-1779407999@swanlandschool.co.uk
SUMMARY:Colour Run
DESCRIPTION:Reception\, Year 1\, Year 2\, Year 3\, Year 4\, Year 5\, Year 6
URL:https://swanlandschool.co.uk/calendar/colour-run/
CATEGORIES:Reception,Year 1,Year 2,Year 3,Year 4,Year 5,Year 6
END:VEVENT
BEGIN:VEVENT
DTSTART;VALUE=DATE:20260521
DTEND;VALUE=DATE:20260522
DTSTAMP:20260425T022600
CREATED:20260312T151541Z
LAST-MODIFIED:20260312T151541Z
UID:12231-1779321600-1779407999@swanlandschool.co.uk
SUMMARY:School Closes for May Half-Term Holidays (3.20 pm)
DESCRIPTION:Reception\, Year 1\, Year 2\, Year 3\, Year 4\, Year 5\, Year 6
URL:https://swanlandschool.co.uk/calendar/school-closes-for-may-half-term-holidays-3-20-pm-3/
CATEGORIES:Reception,Year 1,Year 2,Year 3,Year 4,Year 5,Year 6
END:VEVENT
BEGIN:VEVENT
DTSTART;VALUE=DATE:20260521
DTEND;VALUE=DATE:20260522
DTSTAMP:20260425T022600
CREATED:20260416T140031Z
LAST-MODIFIED:20260416T140031Z
UID:12365-1779321600-1779407999@swanlandschool.co.uk
SUMMARY:Outdoor Classroom Day
DESCRIPTION:Reception\, Year 1\, Year 2\, Year 3\, Year 4\, Year 5\, Year 6
URL:https://swanlandschool.co.uk/calendar/outdoor-classroom-day-2/
CATEGORIES:Reception,Year 1,Year 2,Year 3,Year 4,Year 5,Year 6
END:VEVENT
BEGIN:VEVENT
DTSTART;VALUE=DATE:20260522
DTEND;VALUE=DATE:20260601
DTSTAMP:20260425T022600
CREATED:20260312T151729Z
LAST-MODIFIED:20260312T151729Z
UID:12233-1779408000-1780271999@swanlandschool.co.uk
SUMMARY:School Closed for May Half-Term Holidays
DESCRIPTION:Reception\, Year 1\, Year 2\, Year 3\, Year 4\, Year 5\, Year 6
URL:https://swanlandschool.co.uk/calendar/school-closed-for-may-half-term-holidays-5/
CATEGORIES:Reception,Year 1,Year 2,Year 3,Year 4,Year 5,Year 6
END:VEVENT
BEGIN:VEVENT
DTSTART;VALUE=DATE:20260601
DTEND;VALUE=DATE:20260602
DTSTAMP:20260425T022600
CREATED:20260312T151930Z
LAST-MODIFIED:20260312T151930Z
UID:12235-1780272000-1780358399@swanlandschool.co.uk
SUMMARY:School Re-opens after May Half-Term Holidays (8.45-8.50 am)
DESCRIPTION:Reception\, Year 1\, Year 2\, Year 3\, Year 4\, Year 5\, Year 6
URL:https://swanlandschool.co.uk/calendar/school-re-opens-after-may-half-term-holidays-8-45-8-50-am-3/
CATEGORIES:Reception,Year 1,Year 2,Year 3,Year 4,Year 5,Year 6
END:VEVENT
BEGIN:VEVENT
DTSTART;VALUE=DATE:20260619
DTEND;VALUE=DATE:20260620
DTSTAMP:20260425T022600
CREATED:20260312T153307Z
LAST-MODIFIED:20260312T153307Z
UID:12237-1781827200-1781913599@swanlandschool.co.uk
SUMMARY:PTA Father's Day Shop
DESCRIPTION:Reception\, Year 1\, Year 2\, Year 3\, Year 4\, Year 5\, Year 6
URL:https://swanlandschool.co.uk/calendar/pta-fathers-day-shop-4/
CATEGORIES:PTA,Reception,Year 1,Year 2,Year 3,Year 4,Year 5,Year 6
END:VEVENT
BEGIN:VEVENT
DTSTART;VALUE=DATE:20260619
DTEND;VALUE=DATE:20260620
DTSTAMP:20260425T022600
CREATED:20260416T140140Z
LAST-MODIFIED:20260416T140140Z
UID:12369-1781827200-1781913599@swanlandschool.co.uk
SUMMARY:Year 3 and Year 4 Sports Day (PM)
DESCRIPTION:
URL:https://swanlandschool.co.uk/calendar/year-3-and-year-4-sports-day-pm/
CATEGORIES:Year 3,Year 4
END:VEVENT
BEGIN:VEVENT
DTSTART;VALUE=DATE:20260624
DTEND;VALUE=DATE:20260625
DTSTAMP:20260425T022600
CREATED:20260416T140320Z
LAST-MODIFIED:20260416T140320Z
UID:12372-1782259200-1782345599@swanlandschool.co.uk
SUMMARY:Haltemprice Junior Sports - Costello Stadium - 6.00 pm
DESCRIPTION:Reception\, Year 1\, Year 2\, Year 3\, Year 4\, Year 5\, Year 6
URL:https://swanlandschool.co.uk/calendar/haltemprice-junior-sports-costello-stadium-6-00-pm/
CATEGORIES:Reception,Year 1,Year 2,Year 3,Year 4,Year 5,Year 6
END:VEVENT
END:VCALENDAR