BEGIN:VCALENDAR
VERSION:2.0
PRODID:-//Swanland Primary School - ECPv6.15.20//NONSGML v1.0//EN
CALSCALE:GREGORIAN
METHOD:PUBLISH
X-WR-CALNAME:Swanland Primary School
X-ORIGINAL-URL:https://swanlandschool.co.uk
X-WR-CALDESC:Events for Swanland Primary School
REFRESH-INTERVAL;VALUE=DURATION:PT1H
X-Robots-Tag:noindex
X-PUBLISHED-TTL:PT1H
BEGIN:VTIMEZONE
TZID:UTC
BEGIN:STANDARD
TZOFFSETFROM:+0000
TZOFFSETTO:+0000
TZNAME:UTC
DTSTART:20250101T000000
END:STANDARD
END:VTIMEZONE
BEGIN:VEVENT
DTSTART;VALUE=DATE:20260710
DTEND;VALUE=DATE:20260711
DTSTAMP:20260425T022529
CREATED:20260416T140547Z
LAST-MODIFIED:20260416T140547Z
UID:12378-1783641600-1783727999@swanlandschool.co.uk
SUMMARY:Year 3 Palaeontology Day
DESCRIPTION:
URL:https://swanlandschool.co.uk/calendar/year-3-palaeontology-day/
CATEGORIES:Year 3
END:VEVENT
BEGIN:VEVENT
DTSTART;VALUE=DATE:20260713
DTEND;VALUE=DATE:20260714
DTSTAMP:20260425T022529
CREATED:20260312T153536Z
LAST-MODIFIED:20260312T153536Z
UID:12241-1783900800-1783987199@swanlandschool.co.uk
SUMMARY:Scholastic Book Fair
DESCRIPTION:Reception\, Year 1\, Year 2\, Year 3\, Year 4\, Year 5\, Year 6
URL:https://swanlandschool.co.uk/calendar/scholastic-book-fair-8/
CATEGORIES:Reception,Year 1,Year 2,Year 3,Year 4,Year 5,Year 6
END:VEVENT
BEGIN:VEVENT
DTSTART;VALUE=DATE:20260716
DTEND;VALUE=DATE:20260717
DTSTAMP:20260425T022529
CREATED:20260312T154127Z
LAST-MODIFIED:20260312T154127Z
UID:12243-1784160000-1784246399@swanlandschool.co.uk
SUMMARY:PTA Bag2School Collection
DESCRIPTION:Reception\, Year 1\, Year 2\, Year 3\, Year 4\, Year 5\, Year 6
URL:https://swanlandschool.co.uk/calendar/pta-bag2school-collection-16/
CATEGORIES:PTA,Reception,Year 1,Year 2,Year 3,Year 4,Year 5,Year 6
END:VEVENT
BEGIN:VEVENT
DTSTART;VALUE=DATE:20260717
DTEND;VALUE=DATE:20260718
DTSTAMP:20260425T022529
CREATED:20260312T154237Z
LAST-MODIFIED:20260312T154237Z
UID:12245-1784246400-1784332799@swanlandschool.co.uk
SUMMARY:School Closes for Summer Holidays (3.20 pm)
DESCRIPTION:Reception\, Year 1\, Year 2\, Year 3\, Year 4\, Year 5\, Year 6
URL:https://swanlandschool.co.uk/calendar/school-closes-for-summer-holidays-3-20-pm-4/
CATEGORIES:Reception,Year 1,Year 2,Year 3,Year 4,Year 5,Year 6
END:VEVENT
BEGIN:VEVENT
DTSTART;VALUE=DATE:20260718
DTEND;VALUE=DATE:20260909
DTSTAMP:20260425T022529
CREATED:20260312T154357Z
LAST-MODIFIED:20260312T155544Z
UID:12247-1784332800-1788911999@swanlandschool.co.uk
SUMMARY:School Closed for Summer Holidays
DESCRIPTION:Reception\, Year 1\, Year 2\, Year 3\, Year 4\, Year 5\, Year 6
URL:https://swanlandschool.co.uk/calendar/school-closed-for-summer-holidays-2/
CATEGORIES:Reception,Year 1,Year 2,Year 3,Year 4,Year 5,Year 6
END:VEVENT
END:VCALENDAR