BEGIN:VCALENDAR
VERSION:2.0
PRODID:-//Swanland Primary School - ECPv6.15.20//NONSGML v1.0//EN
CALSCALE:GREGORIAN
METHOD:PUBLISH
X-ORIGINAL-URL:https://swanlandschool.co.uk
X-WR-CALDESC:Events for Swanland Primary School
REFRESH-INTERVAL;VALUE=DURATION:PT1H
X-Robots-Tag:noindex
X-PUBLISHED-TTL:PT1H
BEGIN:VTIMEZONE
TZID:UTC
BEGIN:STANDARD
TZOFFSETFROM:+0000
TZOFFSETTO:+0000
TZNAME:UTC
DTSTART:20240101T000000
END:STANDARD
END:VTIMEZONE
BEGIN:VEVENT
DTSTART;VALUE=DATE:20260324
DTEND;VALUE=DATE:20260325
DTSTAMP:20260424T222505
CREATED:20260109T112745Z
LAST-MODIFIED:20260227T101248Z
UID:11937-1774310400-1774396799@swanlandschool.co.uk
SUMMARY:Year 1 Dress Rehearsal of 'Rise & Shine' to the school
DESCRIPTION:
URL:https://swanlandschool.co.uk/calendar/year-1-dress-rehearsal-of-rise-shine-to-the-school-2/
CATEGORIES:Reception,Year 1,Year 2,Year 3,Year 4,Year 5,Year 6
END:VEVENT
BEGIN:VEVENT
DTSTART;VALUE=DATE:20260320
DTEND;VALUE=DATE:20260321
DTSTAMP:20260424T222506
CREATED:20260109T112617Z
LAST-MODIFIED:20260227T100138Z
UID:11933-1773964800-1774051199@swanlandschool.co.uk
SUMMARY:Comic Relief Red Nose Day
DESCRIPTION:Reception\, Year 1\, Year 2\, Year 3\, Year 4\, Year 5\, Year 6 \nThis year we are once again raising money for Red Nose Day 2026! \nA small donation of any amount towards our Red Nose Non‑Uniform Day would be most gratefully received by clicking here. \nThis year’s suggested theme is “Wear something funny for money!” \nThis could be your favourite outfit\, a funny costume\, or simply something that makes you happy! \nPlease see the separate flyer for more information.
URL:https://swanlandschool.co.uk/calendar/comic-relief-red-nose-day/
CATEGORIES:Reception,Year 1,Year 2,Year 3,Year 4,Year 5,Year 6
END:VEVENT
BEGIN:VEVENT
DTSTART;VALUE=DATE:20260319
DTEND;VALUE=DATE:20260320
DTSTAMP:20260424T222506
CREATED:20260305T144407Z
LAST-MODIFIED:20260312T144949Z
UID:12203-1773878400-1773964799@swanlandschool.co.uk
SUMMARY:Rock Your Socks (in support of World Down Sydrome Day)
DESCRIPTION:Reception\, Year 1\, Year 2\, Year 3\, Year 4\, Year 5\, Year 6 \nChange of date from Friday 20th March to Thursday 19th March. \nThis year to support World Down Syndrome Day\, we are inviting all pupils to take part in “Rock Your Socks” on Friday 20th March. \nRocking your socks is a fun and child-friendly way to start conversations about difference\, inclusion and celebrating what makes each of us unique. By wearing bright\, colourful\, and mismatched socks\, pupils and staff can show their support in a simple\, visible and meaningful way. \nChildren are welcome to come to school wearing mismatched socks on the day – the more colourful and mismatched\, the better! Families may choose to purchase official socks (click here)\, but any fun socks are absolutely fine. \nWe would also be grateful for any voluntary cash donations\, which will go directly to Downright Special\, a charity that provides invaluable support to children with Down Syndrome and to our school community. \nThank you for helping us celebrate this important day.
URL:https://swanlandschool.co.uk/calendar/rock-your-socks-in-support-of-world-down-sydrome-day/
CATEGORIES:Reception,Year 1,Year 2,Year 3,Year 4,Year 5,Year 6
END:VEVENT
BEGIN:VEVENT
DTSTART;VALUE=DATE:20260319
DTEND;VALUE=DATE:20260320
DTSTAMP:20260424T222506
CREATED:20260227T100412Z
LAST-MODIFIED:20260312T145535Z
UID:12178-1773878400-1773964799@swanlandschool.co.uk
SUMMARY:PTA Meeting\, 6.30 pm
DESCRIPTION:Reception\, Year 1\, Year 2\, Year 3\, Year 4\, Year 5\, Year 6 \nParents\, carers\, staff and PTA members are warmly invited to attend the meeting at school on Thursday 19th March at 6.30 pm. \nIf you would like to get involved but are unable to attend\, please email ptaswanlandschool@gmail.com \nThank you for your continued support.
URL:https://swanlandschool.co.uk/calendar/pta-meeting-6-30-pm-2/
CATEGORIES:PTA,Reception,Year 1,Year 2,Year 3,Year 4,Year 5,Year 6
END:VEVENT
BEGIN:VEVENT
DTSTART;VALUE=DATE:20260317
DTEND;VALUE=DATE:20260318
DTSTAMP:20260424T222506
CREATED:20260305T144023Z
LAST-MODIFIED:20260312T145303Z
UID:12198-1773705600-1773791999@swanlandschool.co.uk
SUMMARY:Family Support Drop in Session\, 9.00-11.30 am
DESCRIPTION:Reception\, Year 1\, Year 2\, Year 3\, Year 4\, Year 5\, Year 6 \nFamily Support Drop‑In Session – Tuesday 17th March\, 9.00–11.30 am \n\nThe first half‑termly drop‑in with Gary Kirkwood will be held on Tuesday 17th March.\nSupport is available for families needing help with wellbeing\, home life\, or similar concerns.\nIndividual appointments can also be arranged.\nTo book a meeting email office@swanlandschool.co.uk.\n\n******************************************************************************************************* \nWe now have a dedicated Family Help School & Community Practitioner assigned to our school—Gary Kirkwood—who is available to offer support\, advice\, and guidance to families who may need additional help. These sessions act as the first point of contact for signposting families to appropriate services and should be used before initiating an Early Help referral\, as Gary can direct families to a range of support options\, including Early Help where necessary. \nThis process also enables Front Door Services to direct parents to our pre‑arranged drop‑in sessions when they enquire about support but do not require a full referral. \nThis drop‑in opportunity is the first step prior to making an Early Help referral. \nWe will be offering half‑termly drop‑in sessions\, with the first session taking place on Tuesday 17th March between 9.00 am and 11.30 am. If you or a family require support with home life\, wellbeing\, or similar concerns\, we can also arrange individual appointments with Gary as needed. \nThese are relaxed\, informal drop‑in sessions designed to make accessing support as easy as possible. \nIn addition\, Gary will be holding a Coffee and Chat session on Thursday 26th March\, 9.10 am–10.15 am. \nIf you are interested in booking a meeting or attending the Coffee and Chat session\, please email: office@swanlandschool.co.uk.
URL:https://swanlandschool.co.uk/calendar/family-support-drop-in-session/
CATEGORIES:Reception,Year 1,Year 2,Year 3,Year 4,Year 5,Year 6
END:VEVENT
BEGIN:VEVENT
DTSTART;VALUE=DATE:20260313
DTEND;VALUE=DATE:20260314
DTSTAMP:20260424T222506
CREATED:20260109T112546Z
LAST-MODIFIED:20260312T145213Z
UID:11931-1773360000-1773446399@swanlandschool.co.uk
SUMMARY:PTA Mothers Day Shop
DESCRIPTION:Reception\, Year 1\, Year 2\, Year 3\, Year 4\, Year 5\, Year 6 \nPTA Mother’s Day Shop – Tomorrow \n\nThe Mother’s Day Shop will run tomorrow during the school day in the Meeting Room.\nChildren who have been signed up will be taken by staff to choose a gift\, which will be wrapped in school with a gift tag.\nYounger children will receive help writing their tags.\nPlease send your child with their voucher (if you can’t print the voucher\, the team will have a register of all purchased vouchers)\n\n  \n****************************************************************************************************************************************** \nPlease make sure to buy your voucher before 11.00 am on Friday 27th February. \n👉 CLICK HERE for more information \n👉 CLICK HERE TO VISIT THE EVENTS WEBSITE
URL:https://swanlandschool.co.uk/calendar/pta-mothers-day-shop-3/
CATEGORIES:PTA,Reception,Year 1,Year 2,Year 3,Year 4,Year 5,Year 6
END:VEVENT
BEGIN:VEVENT
DTSTART;VALUE=DATE:20260309
DTEND;VALUE=DATE:20260310
DTSTAMP:20260424T222506
CREATED:20260109T112511Z
LAST-MODIFIED:20260227T095552Z
UID:11929-1773014400-1773100799@swanlandschool.co.uk
SUMMARY:Class Photographs (not Year 6)
DESCRIPTION:Reception\, Year 1\, Year 2\, Year 3\, Year 4\, Year 5 \nPlease note that each class (with the exception of Year 6) will have a group photo taken on Monday 9th March 2026. These photographs will be available for parents to purchase afterwards. \nWe kindly ask that all children come to school wearing their school jumper to ensure a smart and consistent appearance for the photos. Thank you.
URL:https://swanlandschool.co.uk/calendar/class-photographs-not-year-6-4/
CATEGORIES:Reception,Year 1,Year 2,Year 3,Year 4,Year 5
END:VEVENT
BEGIN:VEVENT
DTSTART;VALUE=DATE:20260309
DTEND;VALUE=DATE:20260310
DTSTAMP:20260424T222506
CREATED:20260109T112349Z
LAST-MODIFIED:20260129T144658Z
UID:11925-1773014400-1773100799@swanlandschool.co.uk
SUMMARY:Scholastic Book Fair
DESCRIPTION:Reception\, Year 1\, Year 2\, Year 3\, Year 4\, Year 5\, Year 6 \nSwanland Primary School will be holding a Scholastic Book Fair (please see separate flyer) from Tuesday 3rd to Monday 9th March.  The children will receive a World Book Day Voucher in due course\, and they will be able to spend this voucher at the Book Fair before World Book Day\, which is on Thursday 5th March 2026.
URL:https://swanlandschool.co.uk/calendar/scholastic-book-fair-6/
CATEGORIES:Reception,Year 1,Year 2,Year 3,Year 4,Year 5,Year 6
END:VEVENT
BEGIN:VEVENT
DTSTART;VALUE=DATE:20260305
DTEND;VALUE=DATE:20260306
DTSTAMP:20260424T222506
CREATED:20260227T101529Z
LAST-MODIFIED:20260227T101529Z
UID:12190-1772668800-1772755199@swanlandschool.co.uk
SUMMARY:KS2 SEN - Visit to Primary Ten Pin Bowling Event
DESCRIPTION:Year 3\, Year 4\, Year 5\, Year 6 (certain children only)
URL:https://swanlandschool.co.uk/calendar/ks2-sen-visit-to-primary-ten-pin-bowling-event/
CATEGORIES:Year 3,Year 4,Year 5,Year 6
END:VEVENT
BEGIN:VEVENT
DTSTART;VALUE=DATE:20260305
DTEND;VALUE=DATE:20260306
DTSTAMP:20260424T222506
CREATED:20260209T141439Z
LAST-MODIFIED:20260209T141439Z
UID:12100-1772668800-1772755199@swanlandschool.co.uk
SUMMARY:World Book Day
DESCRIPTION:Reception\, Year 1\, Year 2\, Year 3\, Year 4\, Year 5\, Year 6 \nOn Thursday 5th March it is World Book Day and one of the activities we are doing to to celebrate this\, is to hold a whole-school shared reading session.  Children will join mixed-age groups to share their favourite picture book or short story. \nPlease send your child to school on 5th March with their favourite picture book or short story that can be enjoyed by any age group. If you don’t have an appropriate book\, you are welcome to use the public library or the school library. \nPlease label the book with your child’s name to ensure it can be returned safely to you.
URL:https://swanlandschool.co.uk/calendar/world-book-day-5/
CATEGORIES:Reception,Year 1,Year 2,Year 3,Year 4,Year 5,Year 6
END:VEVENT
BEGIN:VEVENT
DTSTART;VALUE=DATE:20260303
DTEND;VALUE=DATE:20260307
DTSTAMP:20260424T222506
CREATED:20260109T112318Z
LAST-MODIFIED:20260312T145619Z
UID:11923-1772496000-1772841599@swanlandschool.co.uk
SUMMARY:Scholastic Book Fair
DESCRIPTION:Reception\, Year 1\, Year 2\, Year 3\, Year 4\, Year 5\, Year 6 \nWe’re delighted to share some fantastic news from our recent Book Fair! Thanks to your amazing support\, we sold an incredible £2\,290.25 of books and stationery\, which means the school now has around £1\,200 to spend on brand‑new books for our children. \nWe’re really excited to use these rewards to refresh and expand a variety of genres in the school library. This means every child will have the chance to enjoy fresh\, engaging\, and inspiring new reads over the coming months. \nThank you so much for your enthusiasm and involvement—your support makes a real difference! \n******************************** \nSwanland Primary School will be holding a Scholastic Book Fair (please see separate flyer) from Tuesday 3rd to Monday 9th March.  The children will receive a World Book Day Voucher in due course\, and they will be able to spend this voucher at the Book Fair before World Book Day\, which is on Thursday 5th March 2026.
URL:https://swanlandschool.co.uk/calendar/scholastic-book-fair-5/
CATEGORIES:Reception,Year 1,Year 2,Year 3,Year 4,Year 5,Year 6
END:VEVENT
BEGIN:VEVENT
DTSTART;VALUE=DATE:20260226
DTEND;VALUE=DATE:20260227
DTSTAMP:20260424T222506
CREATED:20260209T140940Z
LAST-MODIFIED:20260209T140949Z
UID:12093-1772064000-1772150399@swanlandschool.co.uk
SUMMARY:KS2 SEN - Visit to Primary Indoor Festival
DESCRIPTION:Year 3\, Year 4\, Year 5\, Year 6 (certain children only)
URL:https://swanlandschool.co.uk/calendar/ks2-sen-visit-to-primary-indoor-festival/
CATEGORIES:Year 3,Year 4,Year 5,Year 6
END:VEVENT
BEGIN:VEVENT
DTSTART;VALUE=DATE:20260226
DTEND;VALUE=DATE:20260227
DTSTAMP:20260424T222506
CREATED:20260109T111440Z
LAST-MODIFIED:20260203T105140Z
UID:11921-1772064000-1772150399@swanlandschool.co.uk
SUMMARY:Parent Teacher Consultation Evening (all classes except 1EJ)
DESCRIPTION:Reception\, Year 1\, Year 2\, Year 3\, Year 4\, Year 5\, Year 6 \nUpdate 2nd February – \nDear Parent/Carer \nWe wish to inform you that the 1EJ Parents’ Evening originally scheduled for Thursday 26th February has had to be rescheduled. It will now take place on Monday 23rd February. \nPlease note that all appointments previously booked for the 26th have been cancelled. The new Parents’ Evening dates for 1EJ are Monday 23rd and Tuesday 24th February. \nWe invite all parents/carers who still need to book\, or who now need to rebook\, to make an appointment through the Arbor App for either date. \nIf you require any assistance in rescheduling your meeting\, please do not hesitate to contact us on 01482 631300.
URL:https://swanlandschool.co.uk/calendar/parent-teacher-consultation-evening-13/
CATEGORIES:Reception,Year 1,Year 2,Year 3,Year 4,Year 5,Year 6
END:VEVENT
BEGIN:VEVENT
DTSTART;VALUE=DATE:20260224
DTEND;VALUE=DATE:20260225
DTSTAMP:20260424T222506
CREATED:20260109T111404Z
LAST-MODIFIED:20260203T105210Z
UID:11919-1771891200-1771977599@swanlandschool.co.uk
SUMMARY:Parent Teacher Consultation Evening (all classes)
DESCRIPTION:Reception\, Year 1\, Year 2\, Year 3\, Year 4\, Year 5\, Year 6
URL:https://swanlandschool.co.uk/calendar/parent-teacher-consultation-evening-12/
CATEGORIES:Reception,Year 1,Year 2,Year 3,Year 4,Year 5,Year 6
END:VEVENT
BEGIN:VEVENT
DTSTART;VALUE=DATE:20260223
DTEND;VALUE=DATE:20260224
DTSTAMP:20260424T222506
CREATED:20251127T155213Z
LAST-MODIFIED:20251127T155213Z
UID:11844-1771804800-1771891199@swanlandschool.co.uk
SUMMARY:School re-opens after February Half Term (8.45-8.50 am)
DESCRIPTION:Reception\, Year 1\, Year 2\, Year 3\, Year 4\, Year 5\, Year 6
URL:https://swanlandschool.co.uk/calendar/school-re-opens-after-february-half-term-8-45-8-50-am/
CATEGORIES:Reception,Year 1,Year 2,Year 3,Year 4,Year 5,Year 6
END:VEVENT
BEGIN:VEVENT
DTSTART;VALUE=DATE:20260220
DTEND;VALUE=DATE:20260221
DTSTAMP:20260424T222506
CREATED:20260212T120430Z
LAST-MODIFIED:20260212T120430Z
UID:12126-1771545600-1771631999@swanlandschool.co.uk
SUMMARY:Outdoor Project
DESCRIPTION:Reception\, Year 1\, Year 2\, Year 3\, Year 4\, Year 5\, Year 6 \nDuring the half‑term break\, on Friday 20th February\, we hope to gather a group of volunteers to help us with a small project. We have purchased some rubber matting that we would like to install around the sandpit. This will help prevent the area from becoming muddy during wet weather and allow the children to use it more often. \nIf you are able to help\, please email opal@swanlandschool.co.uk \nIn addition\, we would be grateful for any support in preparing and sprucing up our play sheds and other play areas\, ready for (hopefully) better weather ahead. \nWe plan to begin at 9.30 am and continue into the mid‑afternoon\, but any amount of time you can spare would be very much appreciated. You are also welcome to bring your children along.
URL:https://swanlandschool.co.uk/calendar/outdoor-project/
CATEGORIES:Reception,Year 1,Year 2,Year 4,Year 5,Year 6
END:VEVENT
BEGIN:VEVENT
DTSTART;VALUE=DATE:20260214
DTEND;VALUE=DATE:20260223
DTSTAMP:20260424T222506
CREATED:20251127T155038Z
LAST-MODIFIED:20251127T155038Z
UID:11842-1771027200-1771804799@swanlandschool.co.uk
SUMMARY:School closed for February Half Term
DESCRIPTION:Reception\, Year 1\, Year 2\, Year 3\, Year 4\, Year 5\, Year 6
URL:https://swanlandschool.co.uk/calendar/school-closed-for-february-half-term-2/
CATEGORIES:Reception,Year 1,Year 2,Year 3,Year 4,Year 5,Year 6
END:VEVENT
BEGIN:VEVENT
DTSTART;VALUE=DATE:20260213
DTEND;VALUE=DATE:20260214
DTSTAMP:20260424T222506
CREATED:20260129T144314Z
LAST-MODIFIED:20260129T144314Z
UID:12072-1770940800-1771027199@swanlandschool.co.uk
SUMMARY:'Come as Yourself' Day (non-Uniform)
DESCRIPTION:Reception\, Year 1\, Year 2\, Year 3\, Year 4\, Year 5\, Year 6
URL:https://swanlandschool.co.uk/calendar/come-as-yourself-day-non-uniform/
CATEGORIES:Reception,Year 1,Year 2,Year 3,Year 4,Year 5,Year 6
END:VEVENT
BEGIN:VEVENT
DTSTART;VALUE=DATE:20260213
DTEND;VALUE=DATE:20260214
DTSTAMP:20260424T222506
CREATED:20251127T153755Z
LAST-MODIFIED:20251127T154800Z
UID:11840-1770940800-1771027199@swanlandschool.co.uk
SUMMARY:School closes for February Half Term\, 3.20 pm
DESCRIPTION:Reception\, Year 1\, Year 2\, Year 3\, Year 4\, Year 5\, Year 6
URL:https://swanlandschool.co.uk/calendar/school-closes-for-february-half-term-3-20-pm-2/
CATEGORIES:Reception,Year 1,Year 2,Year 3,Year 4,Year 5,Year 6
END:VEVENT
BEGIN:VEVENT
DTSTART;VALUE=DATE:20260212
DTEND;VALUE=DATE:20260213
DTSTAMP:20260424T222506
CREATED:20260122T160339Z
LAST-MODIFIED:20260129T144133Z
UID:11998-1770854400-1770940799@swanlandschool.co.uk
SUMMARY:PTA Meeting\, 6.30 pm
DESCRIPTION:Reception\, Year 1\, Year 2\, Year 3\, Year 4\, Year 5\, Year 6 \nAll members of the Association\, including parents\, carers and staff\, are invited to attend the meeting on Thursday 12th February at 6:30 pm. \nThis meeting is an opportunity to discuss both past and upcoming fundraising events. It will be held at the school; please enter via the main entrance on Tranby Lane. We look forward to seeing you there. \nThe PTA is currently a small group\, and we would be grateful for any additional support with organising events. We have had to reduce the number of activities due to low committee member numbers. There are various ways you can help\, such as advertising\, contacting companies for support\, sourcing raffle prizes\, co‑ordinating the Nearly New Uniform\, or sharing new ideas to assist with running events. \nIf you would like to get involved\, please email ptaswanlandschool@gmail.com or pop along to the meeting on the 12th. Thank you for your support.
URL:https://swanlandschool.co.uk/calendar/pta-meeting-6-30-pm/
CATEGORIES:PTA,Reception,Year 1,Year 2,Year 3,Year 4,Year 5,Year 6
END:VEVENT
BEGIN:VEVENT
DTSTART;VALUE=DATE:20260210
DTEND;VALUE=DATE:20260211
DTSTAMP:20260424T222506
CREATED:20251204T124056Z
LAST-MODIFIED:20260115T150546Z
UID:11871-1770681600-1770767999@swanlandschool.co.uk
SUMMARY:Year 4 Performance 'Pirates of the Curry Bean'\, 2.00 pm and 6.00 pm
DESCRIPTION:
URL:https://swanlandschool.co.uk/calendar/year-4-performance-2-00-pm-and-6-00-pm-tbc/
CATEGORIES:Year 4
END:VEVENT
BEGIN:VEVENT
DTSTART;VALUE=DATE:20260209
DTEND;VALUE=DATE:20260210
DTSTAMP:20260424T222506
CREATED:20260109T110855Z
LAST-MODIFIED:20260109T111017Z
UID:11915-1770595200-1770681599@swanlandschool.co.uk
SUMMARY:Year 4 Dress Rehearsal of 'Pirates of the Curry Bean' to the school
DESCRIPTION:
URL:https://swanlandschool.co.uk/calendar/year-4-dress-rehearsal-of-pirates-of-the-curry-bean-to-the-school/
CATEGORIES:Year 4
END:VEVENT
BEGIN:VEVENT
DTSTART;VALUE=DATE:20260202
DTEND;VALUE=DATE:20260203
DTSTAMP:20260424T222506
CREATED:20260115T153522Z
LAST-MODIFIED:20260115T153522Z
UID:11974-1769990400-1770076799@swanlandschool.co.uk
SUMMARY:Parent Governor Application Deadline\, 3.20 pm
DESCRIPTION:Reception\, Year 1\, Year 2\, Year 3\, Year 4\, Year 5\, Year 6
URL:https://swanlandschool.co.uk/calendar/parent-governor-application-deadline-3-20-pm/
CATEGORIES:Reception,Year 1,Year 2,Year 3,Year 4,Year 5,Year 6
END:VEVENT
BEGIN:VEVENT
DTSTART;VALUE=DATE:20260129
DTEND;VALUE=DATE:20260130
DTSTAMP:20260424T222506
CREATED:20251211T141709Z
LAST-MODIFIED:20260127T122335Z
UID:11885-1769644800-1769731199@swanlandschool.co.uk
SUMMARY:School Council Movie Night
DESCRIPTION:Reception\, Year 1\, Year 2\, Year 3\, Year 4\, Year 5\, Year 6
URL:https://swanlandschool.co.uk/calendar/school-council-movie-night-2/
CATEGORIES:Reception,Year 1,Year 2,Year 3,Year 4,Year 5,Year 6
END:VEVENT
BEGIN:VEVENT
DTSTART;VALUE=DATE:20260129
DTEND;VALUE=DATE:20260130
DTSTAMP:20260424T222506
CREATED:20251204T123936Z
LAST-MODIFIED:20251211T141909Z
UID:11869-1769644800-1769731199@swanlandschool.co.uk
SUMMARY:PTABag2School Collection
DESCRIPTION:Reception\, Year 1\, Year 2\, Year 3\, Year 4\, Year 5\, Year 6
URL:https://swanlandschool.co.uk/calendar/ptabag2school-collection/
CATEGORIES:PTA,Reception,Year 1,Year 2,Year 3,Year 4,Year 5,Year 6
END:VEVENT
BEGIN:VEVENT
DTSTART;VALUE=DATE:20260107
DTEND;VALUE=DATE:20260108
DTSTAMP:20260424T222506
CREATED:20251009T114252Z
LAST-MODIFIED:20251009T114252Z
UID:11721-1767744000-1767830399@swanlandschool.co.uk
SUMMARY:School Re-Opens After Christmas Holiday (8.45-8.50 am)
DESCRIPTION:Reception\, Year 1\, Year 2\, Year 3\, Year 4\, Year 5\, Year 6
URL:https://swanlandschool.co.uk/calendar/school-re-opens-after-christmas-holiday-8-45-8-50-am/
CATEGORIES:Reception,Year 1,Year 2,Year 3,Year 4,Year 5,Year 6
END:VEVENT
BEGIN:VEVENT
DTSTART;VALUE=DATE:20251220
DTEND;VALUE=DATE:20260107
DTSTAMP:20260424T222506
CREATED:20251009T113953Z
LAST-MODIFIED:20251009T114110Z
UID:11719-1766188800-1767743999@swanlandschool.co.uk
SUMMARY:School Closed for Christmas Holidays
DESCRIPTION:Reception\, Year 1\, Year 2\, Year 3\, Year 4\, Year 5\, Year 6
URL:https://swanlandschool.co.uk/calendar/school-closed-for-christmas-holidays-8/
CATEGORIES:Reception,Year 1,Year 2,Year 3,Year 4,Year 5,Year 6
END:VEVENT
BEGIN:VEVENT
DTSTART;VALUE=DATE:20251219
DTEND;VALUE=DATE:20251220
DTSTAMP:20260424T222506
CREATED:20251113T122420Z
LAST-MODIFIED:20251120T155034Z
UID:11812-1766102400-1766188799@swanlandschool.co.uk
SUMMARY:Visit from Travelling Panto
DESCRIPTION:Reception\, Year 1\, Year 2\, Year 3\, Year 4\, Year 5\, Year 6
URL:https://swanlandschool.co.uk/calendar/visit-from-travelling-panto/
CATEGORIES:Reception,Year 1,Year 2,Year 3,Year 4,Year 5,Year 6
END:VEVENT
BEGIN:VEVENT
DTSTART;VALUE=DATE:20251219
DTEND;VALUE=DATE:20251220
DTSTAMP:20260424T222506
CREATED:20251009T113750Z
LAST-MODIFIED:20251009T113750Z
UID:11717-1766102400-1766188799@swanlandschool.co.uk
SUMMARY:School Closes for Christmas Holiday\, 3.20 pm
DESCRIPTION:Reception\, Year 1\, Year 2\, Year 3\, Year 4\, Year 5\, Year 6
URL:https://swanlandschool.co.uk/calendar/school-closes-for-christmas-holiday-3-20-pm/
CATEGORIES:Reception,Year 1,Year 2,Year 3,Year 4,Year 5,Year 6
END:VEVENT
BEGIN:VEVENT
DTSTART;VALUE=DATE:20251218
DTEND;VALUE=DATE:20251219
DTSTAMP:20260424T222506
CREATED:20251113T122255Z
LAST-MODIFIED:20251127T151534Z
UID:11808-1766016000-1766102399@swanlandschool.co.uk
SUMMARY:Dove House Tinsel Tree Trot (Non-Uniform)
DESCRIPTION:Reception\, Year 1\, Year 2\, Year 3\, Year 4\, Year 5\, Year 6 \nThank you to those of you who have already started to gather sponsors for the Dove House Tinsel Tree Trot on Thursday 18th December. All those bringing at least £2.00 or more will be able to take part in this event. Please send your child’s money and sponsor form in before Thursday 18th December. \nWe will have a professional photographer attending the event from Nino Travagli. Photos will be shared via a whole school Sway and children whose parents have not given this permission in the Arbor App will not be included in the photos. \n… \nWe will be raising money for Dove House by undertaking a sponsored Tinsel Tree Trot (sponsored run) on Thursday 18th December. On this day\, children are invited to come to school in non- uniform\, perhaps a Christmas Jumper or other Christmas attire – with suitable outdoor shoes for a possibly muddy run around the school grounds. We ask children to make a donation towards Dove House for this event as well as gather sponsors. 100% of the profits will be given to Dove House. Please help this important charity by raising as much money as you are able (minimum of £2.00 per child please). \nEach participating child will receive: \n\nA fantastically festive Christmas tree hat and tinsel for each child\nSponsor forms to collect those all important donations\n\nThe children will participate in an assembly on Friday 5th December and be given a sponsor form on that day.
URL:https://swanlandschool.co.uk/calendar/dove-house-tinsel-tree-trot-non-uniform/
CATEGORIES:Reception,Year 1,Year 2,Year 3,Year 4,Year 5,Year 6
END:VEVENT
END:VCALENDAR